BEGIN:VCALENDAR
VERSION:2.0
PRODID:-//Vriendenkring Klassiekers - ECPv6.15.17.1//NONSGML v1.0//EN
CALSCALE:GREGORIAN
METHOD:PUBLISH
X-WR-CALNAME:Vriendenkring Klassiekers
X-ORIGINAL-URL:https://vriendenkring-klassiekers.nl
X-WR-CALDESC:Evenementen voor Vriendenkring Klassiekers
REFRESH-INTERVAL;VALUE=DURATION:PT1H
X-Robots-Tag:noindex
X-PUBLISHED-TTL:PT1H
BEGIN:VTIMEZONE
TZID:UTC
BEGIN:STANDARD
TZOFFSETFROM:+0000
TZOFFSETTO:+0000
TZNAME:UTC
DTSTART:20250101T000000
END:STANDARD
END:VTIMEZONE
BEGIN:VEVENT
DTSTART;TZID=UTC:20260503T110000
DTEND;TZID=UTC:20260503T130000
DTSTAMP:20260425T155518
CREATED:20260308T110326Z
LAST-MODIFIED:20260308T113142Z
UID:469-1777806000-1777813200@vriendenkring-klassiekers.nl
SUMMARY:Cars & Coffee XL LET OP!! LOCATIE 't AMSTERDAMMERTJE\, ALMERE
DESCRIPTION:Dit keer zijn we te gast bij lunchcafé ’t Amsterdammertje\, Videostraat 4 1322 AA Almere \nCars & Coffee: gezellig koffie of thee drinken voor onze donateurs en andere belangstellenden en elkaars auto bewonderen. Alleen auto’s van 25 jaar of ouder worden toegelaten. \nDe Cars & Coffee wordt gehouden van 11.00 tot 13.00 uur. \nBen je nog geen donateur en wil je toch naar de Cars & Coffee komen\, geef je dan op via deze link
URL:https://vriendenkring-klassiekers.nl/event/cars-coffe/
CATEGORIES:Vriendenkring Klassiekers
ATTACH;FMTTYPE=image/jpeg:https://vriendenkring-klassiekers.nl/wp-content/uploads/2025/08/20250803_114520-scaled.jpg
END:VEVENT
END:VCALENDAR